BEGIN:VCALENDAR
METHOD:PUBLISH
VERSION:2.0
PRODID:-//genetics/contensis//NONSGML v1.0//EN
BEGIN:VEVENT
METHOD:PUBLISH
DTSTART:20260505T090000Z
DTEND:20260530T180000Z
SUMMARY:Photo exhibition - Fighting Fascism: Community Resistance in 1978
DESCRIPTION:This exhibition to mark Altab Ali Day, contains work created during and after 1978 through photography, poster art and graphic design. It captures the spirit of the time and the power of photography to document this key moment in the history of the East End, and the UK's anti-racism movement.
LOCATION:Brady Arts and Community Centre 192-196 Hanbury Street London E1 5HU
END:VEVENT
BEGIN:VEVENT
METHOD:PUBLISH
DTSTART:20260519T090000Z
DTEND:20260519T130000Z
SUMMARY:Family Information Hub launch
DESCRIPTION:Join us to celebrate the launch of the Family Information Hub, which brings together the Local Offer, Family Information Service and Family Hubs websites.
LOCATION:Tower Hamlets Town Hall 160 Whitechapel Road London E1 1BJ
END:VEVENT
END:VCALENDAR
